BEGIN:VCALENDAR
VERSION:2.0
PRODID:-//Rad und Wintersportverein Haselbach e. V. - ECPv6.15.17//NONSGML v1.0//EN
CALSCALE:GREGORIAN
METHOD:PUBLISH
X-ORIGINAL-URL:https://www.rwv-haselbach.de
X-WR-CALDESC:Veranstaltungen für Rad und Wintersportverein Haselbach e. V.
REFRESH-INTERVAL;VALUE=DURATION:PT1H
X-Robots-Tag:noindex
X-PUBLISHED-TTL:PT1H
BEGIN:VTIMEZONE
TZID:Europe/Berlin
BEGIN:DAYLIGHT
TZOFFSETFROM:+0100
TZOFFSETTO:+0200
TZNAME:CEST
DTSTART:20180325T010000
END:DAYLIGHT
BEGIN:STANDARD
TZOFFSETFROM:+0200
TZOFFSETTO:+0100
TZNAME:CET
DTSTART:20181028T010000
END:STANDARD
BEGIN:DAYLIGHT
TZOFFSETFROM:+0100
TZOFFSETTO:+0200
TZNAME:CEST
DTSTART:20190331T010000
END:DAYLIGHT
BEGIN:STANDARD
TZOFFSETFROM:+0200
TZOFFSETTO:+0100
TZNAME:CET
DTSTART:20191027T010000
END:STANDARD
BEGIN:DAYLIGHT
TZOFFSETFROM:+0100
TZOFFSETTO:+0200
TZNAME:CEST
DTSTART:20200329T010000
END:DAYLIGHT
BEGIN:STANDARD
TZOFFSETFROM:+0200
TZOFFSETTO:+0100
TZNAME:CET
DTSTART:20201025T010000
END:STANDARD
END:VTIMEZONE
BEGIN:VEVENT
DTSTART;TZID=Europe/Berlin:20191026T130000
DTEND;TZID=Europe/Berlin:20191026T170000
DTSTAMP:20260421T233955
CREATED:20191013T133911Z
LAST-MODIFIED:20191013T143024Z
UID:2099-1572094800-1572109200@www.rwv-haselbach.de
SUMMARY:Haselbacher Skiroller-Berglauf - ABGESAGT
DESCRIPTION:Liebe Sportfreunde\, \nleider müssen wir unseren Skiroller-Berglauf für dieses Jahr absagen.\nDer Grund: Die untere Verkehrsbehörde genehmigt uns die Straßensperrung nicht\, da am 26.10.2019 das Kloster noch geöffnet hat. \nEin Ausweichtermin ist von unserer Seite dieses Jahr leider nicht möglich. \nGerne werden wir nächstes Jahr den Skiroller-Berglauf wieder in Angriff nehmen!
URL:https://www.rwv-haselbach.de/veranstaltung/haselbacher-skiroller-berglauf-abgesagt/
CATEGORIES:Langlauf,Veranstaltungen gesamt
END:VEVENT
END:VCALENDAR