BEGIN:VCALENDAR
VERSION:2.0
PRODID:-//Rad und Wintersportverein Haselbach e. V. - ECPv6.15.17//NONSGML v1.0//EN
CALSCALE:GREGORIAN
METHOD:PUBLISH
X-WR-CALNAME:Rad und Wintersportverein Haselbach e. V.
X-ORIGINAL-URL:https://www.rwv-haselbach.de
X-WR-CALDESC:Veranstaltungen fÃ¼r Rad und Wintersportverein Haselbach e. V.
REFRESH-INTERVAL;VALUE=DURATION:PT1H
X-Robots-Tag:noindex
X-PUBLISHED-TTL:PT1H
BEGIN:VTIMEZONE
TZID:Europe/Berlin
BEGIN:DAYLIGHT
TZOFFSETFROM:+0100
TZOFFSETTO:+0200
TZNAME:CEST
DTSTART:20180325T010000
END:DAYLIGHT
BEGIN:STANDARD
TZOFFSETFROM:+0200
TZOFFSETTO:+0100
TZNAME:CET
DTSTART:20181028T010000
END:STANDARD
BEGIN:DAYLIGHT
TZOFFSETFROM:+0100
TZOFFSETTO:+0200
TZNAME:CEST
DTSTART:20190331T010000
END:DAYLIGHT
BEGIN:STANDARD
TZOFFSETFROM:+0200
TZOFFSETTO:+0100
TZNAME:CET
DTSTART:20191027T010000
END:STANDARD
BEGIN:DAYLIGHT
TZOFFSETFROM:+0100
TZOFFSETTO:+0200
TZNAME:CEST
DTSTART:20200329T010000
END:DAYLIGHT
BEGIN:STANDARD
TZOFFSETFROM:+0200
TZOFFSETTO:+0100
TZNAME:CET
DTSTART:20201025T010000
END:STANDARD
END:VTIMEZONE
BEGIN:VEVENT
DTSTART;TZID=Europe/Berlin:20190908T100000
DTEND;TZID=Europe/Berlin:20190908T170000
DTSTAMP:20260422T011138
CREATED:20190812T182838Z
LAST-MODIFIED:20190909T182404Z
UID:1951-1567936800-1567962000@www.rwv-haselbach.de
SUMMARY:16. Kloster Kreuzberg Pokal - Skispringen
DESCRIPTION:Einladung und Ausschreibung 2019\n  \nErgebnisliste Kloster Kreuzberg Pokal 2019
URL:https://www.rwv-haselbach.de/veranstaltung/16-kloster-kreuzberg-pokal-skispringen/
LOCATION:Kreuzbergarena\, TrÃ¤nkweg\, Bischofsheim a. d. RhÃ¶n\, 97653\, Deutschland
CATEGORIES:Skispringen,Veranstaltungen gesamt
END:VEVENT
END:VCALENDAR