BEGIN:VCALENDAR
VERSION:2.0
PRODID:-//Rad und Wintersportverein Haselbach e. V. - ECPv6.15.17//NONSGML v1.0//EN
CALSCALE:GREGORIAN
METHOD:PUBLISH
X-WR-CALNAME:Rad und Wintersportverein Haselbach e. V.
X-ORIGINAL-URL:https://www.rwv-haselbach.de
X-WR-CALDESC:Veranstaltungen fÃ¼r Rad und Wintersportverein Haselbach e. V.
REFRESH-INTERVAL;VALUE=DURATION:PT1H
X-Robots-Tag:noindex
X-PUBLISHED-TTL:PT1H
BEGIN:VTIMEZONE
TZID:Europe/Berlin
BEGIN:DAYLIGHT
TZOFFSETFROM:+0100
TZOFFSETTO:+0200
TZNAME:CEST
DTSTART:20180325T010000
END:DAYLIGHT
BEGIN:STANDARD
TZOFFSETFROM:+0200
TZOFFSETTO:+0100
TZNAME:CET
DTSTART:20181028T010000
END:STANDARD
BEGIN:DAYLIGHT
TZOFFSETFROM:+0100
TZOFFSETTO:+0200
TZNAME:CEST
DTSTART:20190331T010000
END:DAYLIGHT
BEGIN:STANDARD
TZOFFSETFROM:+0200
TZOFFSETTO:+0100
TZNAME:CET
DTSTART:20191027T010000
END:STANDARD
BEGIN:DAYLIGHT
TZOFFSETFROM:+0100
TZOFFSETTO:+0200
TZNAME:CEST
DTSTART:20200329T010000
END:DAYLIGHT
BEGIN:STANDARD
TZOFFSETFROM:+0200
TZOFFSETTO:+0100
TZNAME:CET
DTSTART:20201025T010000
END:STANDARD
END:VTIMEZONE
BEGIN:VEVENT
DTSTART;TZID=Europe/Berlin:20190707T110000
DTEND;TZID=Europe/Berlin:20190707T180000
DTSTAMP:20260422T041712
CREATED:20190414T113805Z
LAST-MODIFIED:20190617T194822Z
UID:1723-1562497200-1562522400@www.rwv-haselbach.de
SUMMARY:7. Haselbacher MTB-Team-Biathlon
DESCRIPTION:Einladung und Ausschreibung
URL:https://www.rwv-haselbach.de/veranstaltung/7-haselbacher-mtb-team-biathlon/
LOCATION:SchÃ¼tzenhaus Bischofsheim\, Bauersbergstr. 67\, Bischofsheim a. d. RhÃ¶n\, 97653\, Deutschland
CATEGORIES:Moutainbike,Veranstaltungen gesamt
END:VEVENT
BEGIN:VEVENT
DTSTART;TZID=Europe/Berlin:20190720T100000
DTEND;TZID=Europe/Berlin:20190721T180000
DTSTAMP:20260422T041712
CREATED:20190707T124515Z
LAST-MODIFIED:20190707T125040Z
UID:1762-1563616800-1563732000@www.rwv-haselbach.de
SUMMARY:Skispringen um den Bayerischen SchÃ¼lercup
DESCRIPTION:[av_font_icon icon=&#8217;ue823&#8242; font=&#8217;entypo-fontello&#8216; style=&#8220; caption=&#8220; link=&#8220; linktarget=&#8220; size=&#8217;40px&#8216; position=&#8217;left&#8216; color=&#8220;][/av_font_icon] \nÂ Einladung und Ausschreibung\n  \nZeitplan:\nSamstag:\n12:00 Uhr bis 15:00 UhrÂ  TrainingsmÃ¶glichkeiten (auÃŸerhalb dieser Zeit keine TrainingsmÃ¶glichkeit gegeben) \nca. 15:15 Uhr MannschaftsfÃ¼hrersitzung \nab 16:00 Uhr: Wettkampfspringen K50: zwei WertungsdurchgÃ¤nge \n  \nSonntag:\nab 09:00 Uhr Wettkampfspringen K16 im Anschluss auf der K30\, drei WertungsdurchgÃ¤nge wovon die besten zwei in die Wertung einflieÃŸen \n  \nab ca. 13.00 Uhr Laufwettkampf Nordische Kombination fÃ¼r alle Altersklassen \n  \n 
URL:https://www.rwv-haselbach.de/veranstaltung/skispringen-um-den-bayerischen-schuelercup/
LOCATION:Kreuzbergarena\, TrÃ¤nkweg\, Bischofsheim a. d. RhÃ¶n\, 97653\, Deutschland
CATEGORIES:Skispringen
END:VEVENT
END:VCALENDAR