BEGIN:VCALENDAR
VERSION:2.0
PRODID:-//Rad und Wintersportverein Haselbach e. V. - ECPv6.15.17//NONSGML v1.0//EN
CALSCALE:GREGORIAN
METHOD:PUBLISH
X-WR-CALNAME:Rad und Wintersportverein Haselbach e. V.
X-ORIGINAL-URL:https://www.rwv-haselbach.de
X-WR-CALDESC:Veranstaltungen fÃ¼r Rad und Wintersportverein Haselbach e. V.
REFRESH-INTERVAL;VALUE=DURATION:PT1H
X-Robots-Tag:noindex
X-PUBLISHED-TTL:PT1H
BEGIN:VTIMEZONE
TZID:Europe/Berlin
BEGIN:DAYLIGHT
TZOFFSETFROM:+0100
TZOFFSETTO:+0200
TZNAME:CEST
DTSTART:20180325T010000
END:DAYLIGHT
BEGIN:STANDARD
TZOFFSETFROM:+0200
TZOFFSETTO:+0100
TZNAME:CET
DTSTART:20181028T010000
END:STANDARD
BEGIN:DAYLIGHT
TZOFFSETFROM:+0100
TZOFFSETTO:+0200
TZNAME:CEST
DTSTART:20190331T010000
END:DAYLIGHT
BEGIN:STANDARD
TZOFFSETFROM:+0200
TZOFFSETTO:+0100
TZNAME:CET
DTSTART:20191027T010000
END:STANDARD
BEGIN:DAYLIGHT
TZOFFSETFROM:+0100
TZOFFSETTO:+0200
TZNAME:CEST
DTSTART:20200329T010000
END:DAYLIGHT
BEGIN:STANDARD
TZOFFSETFROM:+0200
TZOFFSETTO:+0100
TZNAME:CET
DTSTART:20201025T010000
END:STANDARD
END:VTIMEZONE
BEGIN:VEVENT
DTSTART;TZID=Europe/Berlin:20190517T200000
DTEND;TZID=Europe/Berlin:20190517T230000
DTSTAMP:20260422T072316
CREATED:20181029T204735Z
LAST-MODIFIED:20190425T183655Z
UID:1657-1558123200-1558134000@www.rwv-haselbach.de
SUMMARY:Jahreshauptversammlung 2019 am 17.05.2019
DESCRIPTION:Einladung und Ausschreibung zur Jahreshauptversammlung 2019\n\nSynopse SatzungsÃ¤nderung RWV Haselbach e. V.
URL:https://www.rwv-haselbach.de/veranstaltung/jahreshauptversammlung-2018/
LOCATION:Haselbach\, Feuerwehrhaus\, Haselbachstr. 94\, Bischofsheim\, 97653\, Deutschland
CATEGORIES:Veranstaltungen gesamt
END:VEVENT
BEGIN:VEVENT
DTSTART;TZID=Europe/Berlin:20190525T100000
DTEND;TZID=Europe/Berlin:20190525T170000
DTSTAMP:20260422T072316
CREATED:20190316T192920Z
LAST-MODIFIED:20190421T112847Z
UID:1711-1558778400-1558803600@www.rwv-haselbach.de
SUMMARY:Fahrt zu Superfly Air Sports Wiesbaden
DESCRIPTION:Ablauf:\n  \nWir fahren morgens mit einem gemieteten Reisebus vom Zentralparkplatz Bischofsheim nach Wiesbaden. \nAbfahrt 07:30 Uhr am Zentralparkplatz Bischofsheim \nAb 10.00 Uhr haben wir fÃ¼r 90 Minuten flight-time \nUm Ca. 12.00 Uhr fahren wir zurÃ¼ck. \nmax. Teilnehmerzahl: 20 \nAnmeldung: bitte per Email an michael.beer.rwv@t-online.de (first come first serve). \nDie Busfahrt wird vom Verein bezahlt\, den Eintritt von 12\,- â‚¬ trÃ¤gt jeder Teilnehmer selbst. \n  \nTeilnahmebedingungen:\nKosten: Eintritt: 12\,- â‚¬\, Fahrtkosten werden vom Verein Ã¼bernommen. \nDer Trampolinpark darf nur mit Socken (Rutsch-Stop-Socken) betreten werden. Diese kÃ¶nnen vor Ort noch kÃ¤uflich erworben werden falls keine vorhanden sind. (2\,50 â‚¬ pro Paar) \nInformationen zum Superfly Air Sports \nhttps://superfly.de/wiesbaden/ \n  \n 
URL:https://www.rwv-haselbach.de/veranstaltung/fahrt-zu-superfly-air-sports-wiesbaden/
CATEGORIES:Allgemein,Veranstaltungen gesamt
END:VEVENT
END:VCALENDAR