BEGIN:VCALENDAR
VERSION:2.0
PRODID:-//Rad und Wintersportverein Haselbach e. V. - ECPv6.15.17//NONSGML v1.0//EN
CALSCALE:GREGORIAN
METHOD:PUBLISH
X-WR-CALNAME:Rad und Wintersportverein Haselbach e. V.
X-ORIGINAL-URL:https://www.rwv-haselbach.de
X-WR-CALDESC:Veranstaltungen für Rad und Wintersportverein Haselbach e. V.
REFRESH-INTERVAL;VALUE=DURATION:PT1H
X-Robots-Tag:noindex
X-PUBLISHED-TTL:PT1H
BEGIN:VTIMEZONE
TZID:Europe/Berlin
BEGIN:DAYLIGHT
TZOFFSETFROM:+0100
TZOFFSETTO:+0200
TZNAME:CEST
DTSTART:20170326T010000
END:DAYLIGHT
BEGIN:STANDARD
TZOFFSETFROM:+0200
TZOFFSETTO:+0100
TZNAME:CET
DTSTART:20171029T010000
END:STANDARD
BEGIN:DAYLIGHT
TZOFFSETFROM:+0100
TZOFFSETTO:+0200
TZNAME:CEST
DTSTART:20180325T010000
END:DAYLIGHT
BEGIN:STANDARD
TZOFFSETFROM:+0200
TZOFFSETTO:+0100
TZNAME:CET
DTSTART:20181028T010000
END:STANDARD
BEGIN:DAYLIGHT
TZOFFSETFROM:+0100
TZOFFSETTO:+0200
TZNAME:CEST
DTSTART:20190331T010000
END:DAYLIGHT
BEGIN:STANDARD
TZOFFSETFROM:+0200
TZOFFSETTO:+0100
TZNAME:CET
DTSTART:20191027T010000
END:STANDARD
END:VTIMEZONE
BEGIN:VEVENT
DTSTART;TZID=Europe/Berlin:20181006T080000
DTEND;TZID=Europe/Berlin:20181007T170000
DTSTAMP:20260422T174249
CREATED:20180618T195214Z
LAST-MODIFIED:20181007T142213Z
UID:1548-1538812800-1538931600@www.rwv-haselbach.de
SUMMARY:Bayerischer Schülercup am 06.10.2018
DESCRIPTION:Skispringen mit Crosslauf \n06. und 07.Oktober 2018 \nEinladung und Ausschreibung\nErgebnisliste Sprung\nErgebnisliste NK\nPokal-Wertung\n Pokal-Wertung Nordische Kombination
URL:https://www.rwv-haselbach.de/veranstaltung/bayerischer-schuelercup/
LOCATION:Kreuzbergarena\, Tränkweg\, Bischofsheim a. d. Rhön\, 97653\, Deutschland
CATEGORIES:Skispringen
END:VEVENT
END:VCALENDAR