BEGIN:VCALENDAR
VERSION:2.0
PRODID:-//Rad und Wintersportverein Haselbach e. V. - ECPv6.15.17//NONSGML v1.0//EN
CALSCALE:GREGORIAN
METHOD:PUBLISH
X-WR-CALNAME:Rad und Wintersportverein Haselbach e. V.
X-ORIGINAL-URL:https://www.rwv-haselbach.de
X-WR-CALDESC:Veranstaltungen fÃ¼r Rad und Wintersportverein Haselbach e. V.
REFRESH-INTERVAL;VALUE=DURATION:PT1H
X-Robots-Tag:noindex
X-PUBLISHED-TTL:PT1H
BEGIN:VTIMEZONE
TZID:Europe/Berlin
BEGIN:DAYLIGHT
TZOFFSETFROM:+0100
TZOFFSETTO:+0200
TZNAME:CEST
DTSTART:20170326T010000
END:DAYLIGHT
BEGIN:STANDARD
TZOFFSETFROM:+0200
TZOFFSETTO:+0100
TZNAME:CET
DTSTART:20171029T010000
END:STANDARD
BEGIN:DAYLIGHT
TZOFFSETFROM:+0100
TZOFFSETTO:+0200
TZNAME:CEST
DTSTART:20180325T010000
END:DAYLIGHT
BEGIN:STANDARD
TZOFFSETFROM:+0200
TZOFFSETTO:+0100
TZNAME:CET
DTSTART:20181028T010000
END:STANDARD
BEGIN:DAYLIGHT
TZOFFSETFROM:+0100
TZOFFSETTO:+0200
TZNAME:CEST
DTSTART:20190331T010000
END:DAYLIGHT
BEGIN:STANDARD
TZOFFSETFROM:+0200
TZOFFSETTO:+0100
TZNAME:CET
DTSTART:20191027T010000
END:STANDARD
END:VTIMEZONE
BEGIN:VEVENT
DTSTART;TZID=Europe/Berlin:20180708T110000
DTEND;TZID=Europe/Berlin:20180708T170000
DTSTAMP:20260422T222953
CREATED:20180108T200431Z
LAST-MODIFIED:20180709T182724Z
UID:1510-1531047600-1531069200@www.rwv-haselbach.de
SUMMARY:MTB Biathlon am 08.07.2018
DESCRIPTION:  \n\nHier die Einladung und Ausschreibung\n\n\n\nHinweise zur Meldung: \nAnmeldungen bitte in der Form\nGeschlecht\, Name\, Jahrgang\, Verein an info(at)rwv-haselbach.de mailen.\nTeam:\nm; Max Muster; 1989; w; Maxima Muster; 1999; Verein\nEinzelstarter:\nm; Max Muster; 1989; Verein \n  \nErgebnis\nErgebnisliste Rennen 1 \nErgebnisliste Rennen 2
URL:https://www.rwv-haselbach.de/veranstaltung/mtb-biathlon-2/
CATEGORIES:Moutainbike
END:VEVENT
END:VCALENDAR