BEGIN:VCALENDAR
VERSION:2.0
PRODID:-//Rad und Wintersportverein Haselbach e. V. - ECPv6.15.17//NONSGML v1.0//EN
CALSCALE:GREGORIAN
METHOD:PUBLISH
X-WR-CALNAME:Rad und Wintersportverein Haselbach e. V.
X-ORIGINAL-URL:https://www.rwv-haselbach.de
X-WR-CALDESC:Veranstaltungen fÃ¼r Rad und Wintersportverein Haselbach e. V.
REFRESH-INTERVAL;VALUE=DURATION:PT1H
X-Robots-Tag:noindex
X-PUBLISHED-TTL:PT1H
BEGIN:VTIMEZONE
TZID:Europe/Berlin
BEGIN:DAYLIGHT
TZOFFSETFROM:+0100
TZOFFSETTO:+0200
TZNAME:CEST
DTSTART:20160327T010000
END:DAYLIGHT
BEGIN:STANDARD
TZOFFSETFROM:+0200
TZOFFSETTO:+0100
TZNAME:CET
DTSTART:20161030T010000
END:STANDARD
BEGIN:DAYLIGHT
TZOFFSETFROM:+0100
TZOFFSETTO:+0200
TZNAME:CEST
DTSTART:20170326T010000
END:DAYLIGHT
BEGIN:STANDARD
TZOFFSETFROM:+0200
TZOFFSETTO:+0100
TZNAME:CET
DTSTART:20171029T010000
END:STANDARD
BEGIN:DAYLIGHT
TZOFFSETFROM:+0100
TZOFFSETTO:+0200
TZNAME:CEST
DTSTART:20180325T010000
END:DAYLIGHT
BEGIN:STANDARD
TZOFFSETFROM:+0200
TZOFFSETTO:+0100
TZNAME:CET
DTSTART:20181028T010000
END:STANDARD
END:VTIMEZONE
BEGIN:VEVENT
DTSTART;TZID=Europe/Berlin:20170811T130000
DTEND;TZID=Europe/Berlin:20170811T170000
DTSTAMP:20260423T144335
CREATED:20170718T200957Z
LAST-MODIFIED:20180702T180653Z
UID:1168-1502456400-1502470800@www.rwv-haselbach.de
SUMMARY:Ferienprogramm Sandskulpturen bauen am 11.8.2017
DESCRIPTION:Der RWV Haselbach bietet im Rahmen des Ferienprogramms der Stadt Bischofsheim am Spielplatz in Haselbach (am Hallenbad) das Programm &#8222;Sandburgen\, Muster und mehr&#8220; an. \nWeitere Infos
URL:https://www.rwv-haselbach.de/veranstaltung/ferienprogramm-sandskulpturen-bauen-am-11-8-2017/
LOCATION:Spielplatz Haselbach\, Oberwiesenweg 6\, Bischofsheim\, 97653\, Deutschland
CATEGORIES:Allgemein
END:VEVENT
BEGIN:VEVENT
DTSTART;VALUE=DATE:20170825
DTEND;VALUE=DATE:20170828
DTSTAMP:20260423T144335
CREATED:20170420T192013Z
LAST-MODIFIED:20170829T194653Z
UID:1059-1503619200-1503878399@www.rwv-haselbach.de
SUMMARY:Skispringen Deutsche Seniorenmeisterschaften am 25.08-27.08.2017
DESCRIPTION:  \n  \n[av_icon_box position=&#8217;left&#8216; boxed=&#8220; icon=&#8217;ue823&#8242; font=&#8217;entypo-fontello&#8216; title=&#8217;Meldeformular&#8216; link=&#8217;manually\,http://rwv-haselbach.de/wp-content/uploads/2017/07/Meldeformular.xls&#8216; linktarget=&#8220; linkelement=&#8220; font_color=&#8220; custom_title=&#8220; custom_content=&#8220; color=&#8220; custom_bg=&#8220; custom_font=&#8220; custom_border=&#8220;][/av_icon_box] \n[av_icon_box position=&#8217;left&#8216; boxed=&#8220; icon=&#8217;ue823&#8242; font=&#8217;entypo-fontello&#8216; title=&#8217;Einladung und Ausschreibung&#8216; link=&#8217;manually\,http://rwv-haselbach.de/wp-content/uploads/2017/08/Ausschreibung-DM-Senioren-in-Haselbach-2017-Fertig-1.pdf&#8216; linktarget=&#8220; linkelement=&#8220; font_color=&#8220; custom_title=&#8220; custom_content=&#8220; color=&#8220; custom_bg=&#8220; custom_font=&#8220; custom_border=&#8220;][/av_icon_box] \n  \n[av_icon_box position=&#8217;left&#8216; boxed=&#8220; icon=&#8217;ue823&#8242; font=&#8217;entypo-fontello&#8216; title=&#8217;Ergebnisliste Einzelspringen&#8216; link=&#8217;manually\,http://rwv-haselbach.de/wp-content/uploads/2017/08/20170826_Ergebnisliste-Deutsche-Seniorenmeisterschaft-Einzel.pdf&#8216; linktarget=&#8220; linkelement=&#8220; font_color=&#8220; custom_title=&#8220; custom_content=&#8220; color=&#8220; custom_bg=&#8220; custom_font=&#8220; custom_border=&#8220;][/av_icon_box] \n  \n[av_icon_box position=&#8217;left&#8216; boxed=&#8220; icon=&#8217;ue823&#8242; font=&#8217;entypo-fontello&#8216; title=&#8217;Ergebnisliste Mannschaftsspringen&#8216; link=&#8217;manually\,http://rwv-haselbach.de/wp-content/uploads/2017/08/20170827_Ergebnisliste_Mannschaft.pdf&#8216; linktarget=&#8220; linkelement=&#8220; font_color=&#8220; custom_title=&#8220; custom_content=&#8220; color=&#8220; custom_bg=&#8220; custom_font=&#8220; custom_border=&#8220;][/av_icon_box]
URL:https://www.rwv-haselbach.de/veranstaltung/skispringen-deutsche-seniorenmeisterschaften/
LOCATION:Kreuzbergarena\, TrÃ¤nkweg\, Bischofsheim a. d. RhÃ¶n\, 97653\, Deutschland
CATEGORIES:Skispringen,Veranstaltungen gesamt
END:VEVENT
END:VCALENDAR