BEGIN:VCALENDAR
VERSION:2.0
PRODID:-//Rad und Wintersportverein Haselbach e. V. - ECPv6.15.17//NONSGML v1.0//EN
CALSCALE:GREGORIAN
METHOD:PUBLISH
X-ORIGINAL-URL:https://www.rwv-haselbach.de
X-WR-CALDESC:Veranstaltungen für Rad und Wintersportverein Haselbach e. V.
REFRESH-INTERVAL;VALUE=DURATION:PT1H
X-Robots-Tag:noindex
X-PUBLISHED-TTL:PT1H
BEGIN:VTIMEZONE
TZID:Europe/Berlin
BEGIN:DAYLIGHT
TZOFFSETFROM:+0100
TZOFFSETTO:+0200
TZNAME:CEST
DTSTART:20160327T010000
END:DAYLIGHT
BEGIN:STANDARD
TZOFFSETFROM:+0200
TZOFFSETTO:+0100
TZNAME:CET
DTSTART:20161030T010000
END:STANDARD
BEGIN:DAYLIGHT
TZOFFSETFROM:+0100
TZOFFSETTO:+0200
TZNAME:CEST
DTSTART:20170326T010000
END:DAYLIGHT
BEGIN:STANDARD
TZOFFSETFROM:+0200
TZOFFSETTO:+0100
TZNAME:CET
DTSTART:20171029T010000
END:STANDARD
BEGIN:DAYLIGHT
TZOFFSETFROM:+0100
TZOFFSETTO:+0200
TZNAME:CEST
DTSTART:20180325T010000
END:DAYLIGHT
BEGIN:STANDARD
TZOFFSETFROM:+0200
TZOFFSETTO:+0100
TZNAME:CET
DTSTART:20181028T010000
END:STANDARD
END:VTIMEZONE
BEGIN:VEVENT
DTSTART;TZID=Europe/Berlin:20170709T100000
DTEND;TZID=Europe/Berlin:20170709T170000
DTSTAMP:20260423T162559
CREATED:20170206T193041Z
LAST-MODIFIED:20170709T133933Z
UID:1048-1499594400-1499619600@www.rwv-haselbach.de
SUMMARY:MTB-Biathlon am 09.07.2017
DESCRIPTION:Veranstaltungsflyer\nEinladung und Ausschreibung\nAnmeldung\nMeldungen bitte im Format: \nName 1\, Vorname 1\, Jahrgang\, Geschlecht (m/w)\,\nName 2\, Vorname 2\, Jahrgang\, Geschlecht (m/w)\,\nVerein bzw. Ort \nEinzelstarter sinngemäß \nErgebnisliste\n[av_social_share title=&#8217;Teile diesen Eintrag&#8216; style=&#8220; buttons=&#8220;]
URL:https://www.rwv-haselbach.de/veranstaltung/mtb-biathlon/
LOCATION:Schützenhaus Bischofsheim\, Bauersbergstr. 67\, Bischofsheim a. d. Rhön\, 97653\, Deutschland
CATEGORIES:Moutainbike
END:VEVENT
END:VCALENDAR