BEGIN:VCALENDAR
VERSION:2.0
PRODID:-//Rad und Wintersportverein Haselbach e. V. - ECPv6.15.17//NONSGML v1.0//EN
CALSCALE:GREGORIAN
METHOD:PUBLISH
X-ORIGINAL-URL:https://www.rwv-haselbach.de
X-WR-CALDESC:Veranstaltungen für Rad und Wintersportverein Haselbach e. V.
REFRESH-INTERVAL;VALUE=DURATION:PT1H
X-Robots-Tag:noindex
X-PUBLISHED-TTL:PT1H
BEGIN:VTIMEZONE
TZID:Europe/Berlin
BEGIN:DAYLIGHT
TZOFFSETFROM:+0100
TZOFFSETTO:+0200
TZNAME:CEST
DTSTART:20150329T010000
END:DAYLIGHT
BEGIN:STANDARD
TZOFFSETFROM:+0200
TZOFFSETTO:+0100
TZNAME:CET
DTSTART:20151025T010000
END:STANDARD
BEGIN:DAYLIGHT
TZOFFSETFROM:+0100
TZOFFSETTO:+0200
TZNAME:CEST
DTSTART:20160327T010000
END:DAYLIGHT
BEGIN:STANDARD
TZOFFSETFROM:+0200
TZOFFSETTO:+0100
TZNAME:CET
DTSTART:20161030T010000
END:STANDARD
BEGIN:DAYLIGHT
TZOFFSETFROM:+0100
TZOFFSETTO:+0200
TZNAME:CEST
DTSTART:20170326T010000
END:DAYLIGHT
BEGIN:STANDARD
TZOFFSETFROM:+0200
TZOFFSETTO:+0100
TZNAME:CET
DTSTART:20171029T010000
END:STANDARD
END:VTIMEZONE
BEGIN:VEVENT
DTSTART;VALUE=DATE:20160710
DTEND;VALUE=DATE:20160711
DTSTAMP:20260424T095607
CREATED:20160606T175404Z
LAST-MODIFIED:20160704T191225Z
UID:992-1468108800-1468195199@www.rwv-haselbach.de
SUMMARY:4. Haselbacher MTB-Biathlon am 10.07.2016
DESCRIPTION:Ausschreibung 2016 \nStreckenplan 2016
URL:https://www.rwv-haselbach.de/veranstaltung/4-haselbacher-mtb-biathlon-2/
LOCATION:Schützenhaus Bischofsheim\, Bauersbergstr. 67\, Bischofsheim a. d. Rhön\, 97653\, Deutschland
CATEGORIES:Moutainbike
END:VEVENT
BEGIN:VEVENT
DTSTART;TZID=Europe/Berlin:20160723T080000
DTEND;TZID=Europe/Berlin:20160724T170000
DTSTAMP:20260424T095607
CREATED:20160310T170359Z
LAST-MODIFIED:20160719T170637Z
UID:700-1469260800-1469379600@www.rwv-haselbach.de
SUMMARY:Bayerischer Schülercup 2016/2017 am 23.07.2016
DESCRIPTION:Ausschreibung BSC 2016
URL:https://www.rwv-haselbach.de/veranstaltung/bayerischer-schuelercup-20162017/
LOCATION:Kreuzbergarena\, Tränkweg\, Bischofsheim a. d. Rhön\, 97653\, Deutschland
CATEGORIES:Skispringen
END:VEVENT
END:VCALENDAR